BEGIN:VCALENDAR
VERSION:2.0
PRODID:-//Interconexiona - ECPv6.15.20//NONSGML v1.0//EN
CALSCALE:GREGORIAN
METHOD:PUBLISH
X-WR-CALNAME:Interconexiona
X-ORIGINAL-URL:https://interconexiona.com
X-WR-CALDESC:Eventos para Interconexiona
REFRESH-INTERVAL;VALUE=DURATION:PT1H
X-Robots-Tag:noindex
X-PUBLISHED-TTL:PT1H
BEGIN:VTIMEZONE
TZID:Europe/Madrid
BEGIN:DAYLIGHT
TZOFFSETFROM:+0100
TZOFFSETTO:+0200
TZNAME:CEST
DTSTART:20170326T010000
END:DAYLIGHT
BEGIN:STANDARD
TZOFFSETFROM:+0200
TZOFFSETTO:+0100
TZNAME:CET
DTSTART:20171029T010000
END:STANDARD
BEGIN:DAYLIGHT
TZOFFSETFROM:+0100
TZOFFSETTO:+0200
TZNAME:CEST
DTSTART:20180325T010000
END:DAYLIGHT
BEGIN:STANDARD
TZOFFSETFROM:+0200
TZOFFSETTO:+0100
TZNAME:CET
DTSTART:20181028T010000
END:STANDARD
BEGIN:DAYLIGHT
TZOFFSETFROM:+0100
TZOFFSETTO:+0200
TZNAME:CEST
DTSTART:20190331T010000
END:DAYLIGHT
BEGIN:STANDARD
TZOFFSETFROM:+0200
TZOFFSETTO:+0100
TZNAME:CET
DTSTART:20191027T010000
END:STANDARD
END:VTIMEZONE
BEGIN:VEVENT
DTSTART;TZID=Europe/Madrid:20181211T180000
DTEND;TZID=Europe/Madrid:20181211T200000
DTSTAMP:20260424T173215
CREATED:20181203T163436Z
LAST-MODIFIED:20181203T163658Z
UID:1012-1544551200-1544558400@interconexiona.com
SUMMARY:The Exponential Innovation 4.0 #Mornings4 Alpha (2nd Edition)
DESCRIPTION:DESCRIPCIÓN\n\n\n\nUn evento principal de aprendizaje\, hangout\, intercambio de ideas y redes organizado por Mornings4 y Alpha\, que reúne a los mejores expertos de la 4ª Revolución Industrial en un día dedicado a promover el ecosistema internacional y local. \nEN QUÉ CONSISTE\nNos enfocamos en generar el mejor conocimiento y diseminarlo\, brindando valor y la mejor red de contactos. Si quieres asistir a uno de los mejores eventos de Knowledge + Networking en Barcelona y obtener el mayor conocimiento\, esta es tu oportunidad. \nQUIÉN PARTICIPA\n  \n\n  \n\n \n  \n \n\nAmbos son expertos en innovación: \n\nAlex es físico teórico y hoy trabaja en el Alpha Lab de Telefónica\nJuan Manuel es el físico práctico\, que trabaja como jefe de asuntos científicos en Ferrovial .\n\nTe impresionará la rapidez con la que la innovación se extiende a todo el mundo desde su brillante punto de vista.
URL:https://interconexiona.com/evento/the-exponential-innovation-4-0-mornings4-alpha-2nd-edition/
LOCATION:Edificio Telefonica\, Pl Ernest Lluch i Martin\, 5 Planta 12 - Alpha Lab\, Barcelona\, Barcelona\, 08019\, España
CATEGORIES:Empleo,Emprendeduría,Networking
ATTACH;FMTTYPE=image/jpeg:https://interconexiona.com/wp-content/uploads/2018/10/The-Exponential-Innovation-4.0-Mornings4-Alpha.jpg
ORGANIZER;CN="Mornings4 Alpha":MAILTO:marcos@mornings4.news
END:VEVENT
BEGIN:VEVENT
DTSTART;TZID=Europe/Madrid:20181213T090000
DTEND;TZID=Europe/Madrid:20181213T143000
DTSTAMP:20260424T173215
CREATED:20181203T162706Z
LAST-MODIFIED:20181203T162706Z
UID:1004-1544691600-1544711400@interconexiona.com
SUMMARY:II Encuentro de Innovación Abierta y Emprendimiento Industrial
DESCRIPTION:¿Qué es Horizonte Factoría?\nEn Horizonte Factoría conoceremos con detalle destacados casos de éxito de reconocimiento nacional e internacional\, como el del Cluster de Agroalimentación de Aragón\, que utiliza subproductos derivados de la producción de cerveza para la elaboración de yogures\, Ekolber\, que genera productos sustitutivos del plástico biodegradables\, Plastic Repair\, especializado en la reparación de palets industriales y Ecoalf\, primera empresa que genera productos de moda realizados con materiales reciclados. \nAdemás\, se presentará la próxima edición de Horizonte Factoría (2019) y se abrirá un proceso de innovación abierta\, liderado por Grupo Init y dirigido a todas las industrias aragonesas\, con el ánimo de impulsar la hibridación del ecosistema emprendedor de España y la industria aragonesa\, como factor de competitividad. \n¿Cuándo se realiza?\nHorizonte Factoría tendrá lugar el 13 de diciembre en el Auditorio de Etopía en Zaragoza y\, en esta segunda edición\, tendrá como temática principal la “Economía Circular y Baja en Carbono\,” como eje determinante en la industria del futuro y espacio de amplio recorrido para la innovación abierta. \n¿Cuál es el programa?\n09:00 – 09:15 Recepción de asistentes \n09:15 – 09:30 Inauguración de Horizonte Factoría con: \nBeatriz Arraibi\, Directora de Comunicación de Grupo Init. \nElena Giner\, Concejala de Participación\, Transparencia y Gobierno Abierto del Ayuntamiento de Zaragoza \nCarlos Piñeyroa\, Director de Innovación Abierta de Grupo Init \n09:30-10:15  ¿Qué es la Economía Circular? \nJavier Carrillo Hermosilla. Co-fundador e Investigador de Innogreen Research & Consulting”. Profesor Titular de Economía de la Universidad de Alcalá. \n10:15 -11:00 Primer caso de éxito. Aragón. Cluster de Agroalimentación de Aragón \nEl proyecto que presenta el Cluster de Agroalimentación de Aragón en colaboración con el Grupo Ágora\, La Zaragozana y la Universidad de Zaragoza tiene por objetivo introducir el bagazo y/o germen de malta en postres lácteos como el yogur\, reciclando así el subproducto derivado de la producción de cerveza\, con la finalidad de mejorar el perfil nutricional y funcional de los yogures\, sin reducir su aceptación popular por sus propiedades organolépticas\, en respuesta a las necesidades reales de un mercado que demanda productos más saludables. \nPonente: María Eugenia Hernández de Pablo. Directora Gerente del Clúster Aragonés de Alimentación \n11:00 – 11:45 Segundo caso de éxito. Euskadi. Ekolber \nEkolber es una empresa con una patente europea de proceso que le permite generar productos sustitutivos del plástico biodegradables. Desde la obtención de la patente\, previa a la constitución de la empresa\, hasta la obtención de productos para el mercado\, Ekolber como microempresa ha tenido que colaborar con diferentes agentes. La solución de sustituir plásticos por material biodegradable aborda muchos sectores (envases\, material agrícola\, biomedicina\, …). \nGanadora de los Premios Europeos de Medio Ambiente\, edición 2017/2018\, Sección País Vasco en la Categoria de Proceso. \nPonente: Fernando Alonso. Gerente de Ekolber \n11:45 –12:15 Coffee \n12:15 – 13:00 Tercer caso de éxito. Navarra.  Plastic Repair System. \nPlastic Repair System está especializado en la reparación de RTPs (Retornable Transport Packaging) y gracias a su técnica ofrecen un ahorro de costes del 70% respecto a la reposición y del 98% de las emisiones de CO2 en comparación con el reciclaje\, la incineración o el enterramiento. Plastic Repair System nos presentará el caso en el que ha trabajado con Cartonplast Iberica SLU y ANFEVI la Asociación Nacional de Empresas Fabricantes de Envases de Vidrio. \nGanadora de los Premios Europeos de Medio Ambiente\, edición 2017/2018\, Sección España en la Categoria de Producto. \nPonente: Laura Alba Cuadrado. Directora General de Plastic Repair System \n13:00-13:45 Cuarto caso de éxito. Internacional. Ecoalf \nEcoalf surge con el objetivo de fabricar la primera generación de productos de moda realizados con materiales reciclados de la misma calidad\, diseño y propiedades técnicas que los mejores productos no reciclados. Demostrando que no es necesario seguir abusando de los recursos naturales del planeta de una forma indiscriminada. \nEcoalf presentará la iniciativa Upcycling the Oceans iniciativa que surge en septiembre de 2015 de la mano de la Fundación Ecoalf\, la Fundación HAP y Ecoembes\, y gracias a la cual durante el primer año se han recuperado más de 180 toneladas de residuos con la colaboración de más de 450 barcos pesqueros de arrastre en 32 puertos pesqueros del mediterráneo. \nPonente: Carol Blazquez. Head and Soul of Innovation and Sustainbility at Ecoalf \n13:45 – 14:15 Presentación del Proceso de Innovación Abierta Horizonte Factoría 2019 \n14:15 – 14:30 Clausura \nApúntate de forma gratuita en el enlace: \nHorizonte Factoría\, II Encuentro de Innovación Abierta y Emprendimiento Industrial
URL:https://interconexiona.com/evento/ii-encuentro-de-innovacion-abierta-y-emprendimiento-industrial/
LOCATION:Etiopia\, avenida ciudad soria\, 8\, Zaragoza\, Zaragoza\, 50003\, España
CATEGORIES:Empleo,Emprendeduría,Networking
ATTACH;FMTTYPE=image/jpeg:https://interconexiona.com/wp-content/uploads/2018/12/Horizonte_Factoría.jpg
ORGANIZER;CN="CIEM ZAragoza":MAILTO:info@ciemzaragoza.es
END:VEVENT
BEGIN:VEVENT
DTSTART;VALUE=DATE:20181215
DTEND;VALUE=DATE:20181217
DTSTAMP:20260424T173215
CREATED:20181210T161629Z
LAST-MODIFIED:20181210T162120Z
UID:1031-1544832000-1545004799@interconexiona.com
SUMMARY:Motiva +Emprende
DESCRIPTION:¿En qué consiste?\n“Motiva + Emprende” es un proyecto del Ayuntamiento de Soria\, seleccionado en el marco de la convocatoria de subvenciones impulsada por la FEMP y el INJUVE\, para promover el empleo y el emprendimiento juvenil mediante el desarrollo de programas que incluyan actividades que fomenten las oportunidades de empleo\, autoempleo e iniciativas empresariales para los y las jóvenes\, de 16 a 35 años\, en el ámbito local. \n¿Qué fases tiene?\nEl proyecto se desarrolla en tres fases: \n\nEncuentros con nueve emprendedores/as que ofrecerán pequeñas charla.  Intercambio de experiencias sobre sus ideas y modelos de éxito con negocios instalados en Soria\, y otros puntos\, como Burgos\, Guadalajara o Cáceres.\nLABORATORIO DE SUEÑOS: En esta fase es necesaria la inscripción previa. La idea es conocer las iniciativas que se presenten y que sus impulsores cuenten con el apoyo de tres expertos en las áreas de desarrollo rural\, las finanzas y el coaching\, en colaboración con el Semillero de Proyectos de Soria. Las personas interesadas deben enviar su solicitud al correo electrónico harmoniicoaching@gmail.com\nRed de proyectos on line: Abierta a todas las personas interesadas en inspirar\, aprender y crear sinergias que hagan factibles y viables sus proyectos.\n\nLos/as emprendedores/as se centrarán en áreas vinculadas al desarrollo sostenible\, aprovechando los recursos endógenos\, el turismo de bienestar y calidad de vida\, el diseño y trabajo online y los oficios.
URL:https://interconexiona.com/evento/motiva-emprende/
LOCATION:Centro Cívico Bécquer\, C/Infantes de Lara\,1\, Soria\, Soria\, 42003
CATEGORIES:Empleo,Emprendeduría,Networking
ATTACH;FMTTYPE=image/jpeg:https://interconexiona.com/wp-content/uploads/2018/12/Motivaemprende.jpg
ORGANIZER;CN="Ayuntamiento de Soria":MAILTO:harmoniicoaching@gmail.com
END:VEVENT
END:VCALENDAR