BEGIN:VCALENDAR
VERSION:2.0
PRODID:-//Interconexiona - ECPv6.15.20//NONSGML v1.0//EN
CALSCALE:GREGORIAN
METHOD:PUBLISH
X-ORIGINAL-URL:https://interconexiona.com
X-WR-CALDESC:Eventos para Interconexiona
REFRESH-INTERVAL;VALUE=DURATION:PT1H
X-Robots-Tag:noindex
X-PUBLISHED-TTL:PT1H
BEGIN:VTIMEZONE
TZID:Europe/Madrid
BEGIN:DAYLIGHT
TZOFFSETFROM:+0100
TZOFFSETTO:+0200
TZNAME:CEST
DTSTART:20170326T010000
END:DAYLIGHT
BEGIN:STANDARD
TZOFFSETFROM:+0200
TZOFFSETTO:+0100
TZNAME:CET
DTSTART:20171029T010000
END:STANDARD
BEGIN:DAYLIGHT
TZOFFSETFROM:+0100
TZOFFSETTO:+0200
TZNAME:CEST
DTSTART:20180325T010000
END:DAYLIGHT
BEGIN:STANDARD
TZOFFSETFROM:+0200
TZOFFSETTO:+0100
TZNAME:CET
DTSTART:20181028T010000
END:STANDARD
BEGIN:DAYLIGHT
TZOFFSETFROM:+0100
TZOFFSETTO:+0200
TZNAME:CEST
DTSTART:20190331T010000
END:DAYLIGHT
BEGIN:STANDARD
TZOFFSETFROM:+0200
TZOFFSETTO:+0100
TZNAME:CET
DTSTART:20191027T010000
END:STANDARD
END:VTIMEZONE
BEGIN:VEVENT
DTSTART;TZID=Europe/Madrid:20181108T100000
DTEND;TZID=Europe/Madrid:20181108T190000
DTSTAMP:20260425T021827
CREATED:20181029T163813Z
LAST-MODIFIED:20181029T163813Z
UID:887-1541671200-1541703600@interconexiona.com
SUMMARY:5ª Feria de Empleo de la Universidad de Sevilla
DESCRIPTION:¿Qué es y dónde se realiza?\nLa 5ª Feria de Empleo de la Universidad de Sevilla se celebrará los próximos días 7 y 8 de noviembre en el Pabellón Deportivo Ramón y Cajal\, y contará con la presencia de importantes empresas y un amplio programa de ponencias\, talleres prácticos y actividades. \n¿Qué puedes encontrar?\nTienes la oportunidad de participar en los procesos de selección desarrollados en el recinto. Se pretende facilitar que sea un espacio de encuentro en el que visitantes y empresas se den cita con el fin de mejorar las opciones de empleabilidad de aquellas personas que deseen incorporarse al mercado laboral. \n¿Cuanto cuesta?\nLa asistencia a la 5ª Feria de Empleo US es gratuita y el acceso es libre para todo el mundo. \n¿De qué se hablará este día?
URL:https://interconexiona.com/evento/5a-feria-empleo-la-universidad-sevilla/
LOCATION:Pabellón Polideportivo Ramón y Cajal- Universidad de Sevilla\, Av. de Ramón y Cajal\, 1\, Sevilla\, Sevilla\, 41018\, España
CATEGORIES:Empleo
ATTACH;FMTTYPE=image/jpeg:https://interconexiona.com/wp-content/uploads/2018/10/5-feria-empleo-sevilla-1.jpg
END:VEVENT
BEGIN:VEVENT
DTSTART;TZID=Europe/Madrid:20181120T093000
DTEND;TZID=Europe/Madrid:20181120T133000
DTSTAMP:20260425T021827
CREATED:20181112T155026Z
LAST-MODIFIED:20181112T155026Z
UID:940-1542706200-1542720600@interconexiona.com
SUMMARY:#EKGranada18 | Espacio Knowmads
DESCRIPTION:Espacio Knowmads\,  CajaGranada Fundación \, es un evento impulsado por la Fundación Cajasol. La idea del evento es generar nuevas visiones y rutas hacia un desarrollo profesional efectivo y sostenible. \nObjetivo\n\nTomar conciencia de las competencias personales\nDiseño diseño de su propuesta de valor profesional\nConocimiento de estrategias de aprendizaje y posicionamiento accesibles y aplicables para ser profesionalmente conocidos\, reconocidos y elegidos.\n\nLa filosofía\n\nGenerar un “espacio” de encuentro y conexión para personas y empresas interesadas en el desarrollo profesional\, de acuerdo con el nuevo escenario del mercado de trabajo.\nDar claves que ayuden al desarrollo de competencias profesionales de un futuro ya presente.\nGenerar una reflexión sobre la necesidad de ponerse en valor\, con pertinencia e inteligencia emocional y social\,\nGenerar mentalidad de aprendizaje.\nAportar herramientas para la gestión del cambio y la adaptación al nuevo contexto profesional.\nInspirar ideas y generar una actitud proactiva.\n\nInscripción\nhttp://www.cajagranadafundacion.es/evento2-0/ekgranada18-espacio-knowmads/
URL:https://interconexiona.com/evento/ekgranada18-espacio-knowmads/
LOCATION:Teatro CajaGranada. Avda. de la Ciencia\, 2. 18006. Granada\, Avda. de la Ciencia\, 2\, Granada\, Granada\, 18006\, España
CATEGORIES:Empleo,Networking
ATTACH;FMTTYPE=image/jpeg:https://interconexiona.com/wp-content/uploads/2018/11/EKGranada2018.jpg
END:VEVENT
BEGIN:VEVENT
DTSTART;TZID=Europe/Madrid:20181127T180000
DTEND;TZID=Europe/Madrid:20181127T203000
DTSTAMP:20260425T021827
CREATED:20181027T152451Z
LAST-MODIFIED:20181027T152451Z
UID:853-1543341600-1543350600@interconexiona.com
SUMMARY:The Exponential Innovation 4.0 - Mornings4 Alpha
DESCRIPTION:DESCRIPCIÓN\n\n\n\nUn evento principal de aprendizaje\, hangout\, intercambio de ideas y redes organizado por Mornings4 y Alpha\, que reúne a los mejores expertos de la 4ª Revolución Industrial en un día dedicado a promover el ecosistema internacional y local. \nEN QUÉ CONSISTE\nNos enfocamos en generar el mejor conocimiento y diseminarlo\, brindando valor y la mejor red de contactos. Si quieres asistir a uno de los mejores eventos de Knowledge + Networking en Barcelona y obtener el mayor conocimiento\, esta es tu oportunidad. \nQUIÉN PARTICIPA\n  \n \n  \n \n\nAmbos son expertos en innovación: \n\n Alex es físico teórico y hoy trabaja en el Alpha Lab de Telefónica\nJuan Manuel es el físico práctico\, que trabaja como jefe de asuntos científicos en Ferrovial .\n\nTe impresionará la rapidez con la que la innovación se extiende a todo el mundo desde su brillante punto de vista.
URL:https://interconexiona.com/evento/the-exponential-innovation-4-0-mornings4-alpha/
LOCATION:Edificio Telefonica\, Pl Ernest Lluch i Martin\, 5 Planta 12 - Alpha Lab\, Barcelona\, Barcelona\, 08019\, España
ATTACH;FMTTYPE=image/jpeg:https://interconexiona.com/wp-content/uploads/2018/10/The-Exponential-Innovation-4.0-Mornings4-Alpha.jpg
ORGANIZER;CN="Mornings4 Alpha":MAILTO:marcos@mornings4.news
END:VEVENT
END:VCALENDAR