BEGIN:VCALENDAR
VERSION:2.0
PRODID:-//Interconexiona - ECPv6.15.20//NONSGML v1.0//EN
CALSCALE:GREGORIAN
METHOD:PUBLISH
X-ORIGINAL-URL:https://interconexiona.com
X-WR-CALDESC:Eventos para Interconexiona
REFRESH-INTERVAL;VALUE=DURATION:PT1H
X-Robots-Tag:noindex
X-PUBLISHED-TTL:PT1H
BEGIN:VTIMEZONE
TZID:Europe/Madrid
BEGIN:DAYLIGHT
TZOFFSETFROM:+0100
TZOFFSETTO:+0200
TZNAME:CEST
DTSTART:20170326T010000
END:DAYLIGHT
BEGIN:STANDARD
TZOFFSETFROM:+0200
TZOFFSETTO:+0100
TZNAME:CET
DTSTART:20171029T010000
END:STANDARD
BEGIN:DAYLIGHT
TZOFFSETFROM:+0100
TZOFFSETTO:+0200
TZNAME:CEST
DTSTART:20180325T010000
END:DAYLIGHT
BEGIN:STANDARD
TZOFFSETFROM:+0200
TZOFFSETTO:+0100
TZNAME:CET
DTSTART:20181028T010000
END:STANDARD
BEGIN:DAYLIGHT
TZOFFSETFROM:+0100
TZOFFSETTO:+0200
TZNAME:CEST
DTSTART:20190331T010000
END:DAYLIGHT
BEGIN:STANDARD
TZOFFSETFROM:+0200
TZOFFSETTO:+0100
TZNAME:CET
DTSTART:20191027T010000
END:STANDARD
END:VTIMEZONE
BEGIN:VEVENT
DTSTART;TZID=Europe/Madrid:20181204T180000
DTEND;TZID=Europe/Madrid:20181204T200000
DTSTAMP:20260424T162710
CREATED:20181203T154532Z
LAST-MODIFIED:20181203T154532Z
UID:999-1543946400-1543953600@interconexiona.com
SUMMARY:#OpenClass online: "Nuevos Estilos de Liderazgo"
DESCRIPTION:¿Cuándo se realiza?\nEl próximo martes 4 de diciembre\, a las 18:00h\, tendrá lugar la Open Class online: «Nuevos Estilos de Liderazgo». \n¿En qué consiste?\nLas organizaciones están cambiando\, sus estructuras\, jerarquías y competencias\, y esto necesariamente obliga a transformar los liderazgos\, que se orientan hacia conceptos de colaboración\, felicidad e innovación desde un punto de vista colectivo. \nEl primer paso que debe realizar un líder es descubrir sus propios talentos y capacidades\, para luego poder conectarse mejor con su equipo\, y dirigir así de manera equilibrada su organización. En esta sesión mostraremos cómo evaluar nuestros propios talentos y habilidades de liderazgo\, de manera sencilla\, clara y visual. \n¿Quién la imparte?\nEsta Open Class estará impartida por: \n\nJordi Vilajosana Crusells\, director académico del posgrado en Management and Positive Leadership de la UPC School y director de l’Observatory of Entrepreneurship and Happiness de la UPC.\n\n\nJesús Viscarri\, coordinador académico del posgrado en Management and Positive Leadership y gerente del área de Planificación Estratégica y Estudios de CaixaBank.\n\n¡Inscripción abierta y gratuita!
URL:https://interconexiona.com/evento/openclass-online-nuevos-estilos-de-liderazgo/
LOCATION:Internet-Online
CATEGORIES:Empleo
ATTACH;FMTTYPE=image/jpeg:https://interconexiona.com/wp-content/uploads/2018/12/46755374_1923891557658109_2705308949522939904_n.jpg
END:VEVENT
END:VCALENDAR