BEGIN:VCALENDAR
VERSION:2.0
PRODID:-//Interconexiona - ECPv6.15.20//NONSGML v1.0//EN
CALSCALE:GREGORIAN
METHOD:PUBLISH
X-ORIGINAL-URL:https://interconexiona.com
X-WR-CALDESC:Eventos para Interconexiona
REFRESH-INTERVAL;VALUE=DURATION:PT1H
X-Robots-Tag:noindex
X-PUBLISHED-TTL:PT1H
BEGIN:VTIMEZONE
TZID:Europe/Madrid
BEGIN:DAYLIGHT
TZOFFSETFROM:+0100
TZOFFSETTO:+0200
TZNAME:CEST
DTSTART:20170326T010000
END:DAYLIGHT
BEGIN:STANDARD
TZOFFSETFROM:+0200
TZOFFSETTO:+0100
TZNAME:CET
DTSTART:20171029T010000
END:STANDARD
BEGIN:DAYLIGHT
TZOFFSETFROM:+0100
TZOFFSETTO:+0200
TZNAME:CEST
DTSTART:20180325T010000
END:DAYLIGHT
BEGIN:STANDARD
TZOFFSETFROM:+0200
TZOFFSETTO:+0100
TZNAME:CET
DTSTART:20181028T010000
END:STANDARD
BEGIN:DAYLIGHT
TZOFFSETFROM:+0100
TZOFFSETTO:+0200
TZNAME:CEST
DTSTART:20190331T010000
END:DAYLIGHT
BEGIN:STANDARD
TZOFFSETFROM:+0200
TZOFFSETTO:+0100
TZNAME:CET
DTSTART:20191027T010000
END:STANDARD
END:VTIMEZONE
BEGIN:VEVENT
DTSTART;TZID=Europe/Madrid:20181106T093000
DTEND;TZID=Europe/Madrid:20181106T160000
DTSTAMP:20260424T213329
CREATED:20181027T180846Z
LAST-MODIFIED:20181027T180846Z
UID:873-1541496600-1541520000@interconexiona.com
SUMMARY:EXCELLENCE Graz
DESCRIPTION:Qué es EXCELLENCE Graz\nCada año\, en noviembre\, la universidad de Graz se convierte en el punto de carrera de Estiria en el marco de la feria de empleo y carrera EXCELLENCE. \nDónde se realiza\nEn el ambiente hermoso del edificio principal\, numerosas empresas e instituciones de renombre están buscando a los empleados de mañana. Conferencias de primera clase\, charlas emocionantes en los escenarios de la exposición\, así como puntos de servicio útiles completan el programa garantizando un día informativo exitoso.Las empresas e instituciones expositoras provienen principalmente de la región de Austria. \nA quién va dirigida\nLa feria está dirigida a estudiantes\, egresados y todas las personas interesadas. La admisión es gratuita\, registro sólo se requiere en el caso de participar en el programa marco\, como fotos de currículum gratuitas\, comprobación del currículum\, conferencias y charlas. Se puede llegar a la universidad en transporte público. Aparcamiento para visitantes con costos está disponible directamente en el campus universitario en la zona azul. \nCuándo\nLa EXCELLENCE tendrá lugar el martes\, 06. noviembre 2018 en Graz.
URL:https://interconexiona.com/evento/excellence-graz/
LOCATION:Career Center Karl-Franzens-Universität\, Geidorfgürtel 21/1\, Graz\, Estiria\, A-8010\, Austria
CATEGORIES:Empleo,Networking
ATTACH;FMTTYPE=image/jpeg:https://interconexiona.com/wp-content/uploads/2018/10/EXCELLENCE-Graz-2018.jpg
ORGANIZER;CN="Career Center Karl-Franzens-Universit%C3%A4t":MAILTO:careercenter@uni-graz.at
END:VEVENT
BEGIN:VEVENT
DTSTART;TZID=Europe/Madrid:20181107T100000
DTEND;TZID=Europe/Madrid:20181107T190000
DTSTAMP:20260424T213329
CREATED:20181029T163938Z
LAST-MODIFIED:20181029T163938Z
UID:880-1541584800-1541617200@interconexiona.com
SUMMARY:5ª Feria de Empleo de la Universidad de Sevilla
DESCRIPTION:¿Qué es y dónde se realiza?\nLa 5ª Feria de Empleo de la Universidad de Sevilla se celebrará los próximos días 7 y 8 de noviembre en el Pabellón Deportivo Ramón y Cajal\, y contará con la presencia de importantes empresas y un amplio programa de ponencias\, talleres prácticos y actividades. \n¿Qué puedes encontrar?\nTienes la oportunidad de participar en los procesos de selección desarrollados en el recinto. Se pretende facilitar que sea un espacio de encuentro en el que visitantes y empresas se den cita con el fin de mejorar las opciones de empleabilidad de aquellas personas que deseen incorporarse al mercado laboral. \n¿Cuanto cuesta?\nLa asistencia a la 5ª Feria de Empleo US es gratuita y el acceso es libre para todo el mundo. \n¿De qué se hablará este día?\n \n 
URL:https://interconexiona.com/evento/5a-feria-empleo-la-universidad-sevilla-2/
LOCATION:Pabellón Polideportivo Ramón y Cajal- Universidad de Sevilla\, Av. de Ramón y Cajal\, 1\, Sevilla\, Sevilla\, 41018\, España
CATEGORIES:Empleo
ATTACH;FMTTYPE=image/jpeg:https://interconexiona.com/wp-content/uploads/2018/10/5-feria-empleo-sevilla-1.jpg
END:VEVENT
BEGIN:VEVENT
DTSTART;TZID=Europe/Madrid:20181108T100000
DTEND;TZID=Europe/Madrid:20181108T190000
DTSTAMP:20260424T213329
CREATED:20181029T163813Z
LAST-MODIFIED:20181029T163813Z
UID:887-1541671200-1541703600@interconexiona.com
SUMMARY:5ª Feria de Empleo de la Universidad de Sevilla
DESCRIPTION:¿Qué es y dónde se realiza?\nLa 5ª Feria de Empleo de la Universidad de Sevilla se celebrará los próximos días 7 y 8 de noviembre en el Pabellón Deportivo Ramón y Cajal\, y contará con la presencia de importantes empresas y un amplio programa de ponencias\, talleres prácticos y actividades. \n¿Qué puedes encontrar?\nTienes la oportunidad de participar en los procesos de selección desarrollados en el recinto. Se pretende facilitar que sea un espacio de encuentro en el que visitantes y empresas se den cita con el fin de mejorar las opciones de empleabilidad de aquellas personas que deseen incorporarse al mercado laboral. \n¿Cuanto cuesta?\nLa asistencia a la 5ª Feria de Empleo US es gratuita y el acceso es libre para todo el mundo. \n¿De qué se hablará este día?
URL:https://interconexiona.com/evento/5a-feria-empleo-la-universidad-sevilla/
LOCATION:Pabellón Polideportivo Ramón y Cajal- Universidad de Sevilla\, Av. de Ramón y Cajal\, 1\, Sevilla\, Sevilla\, 41018\, España
CATEGORIES:Empleo
ATTACH;FMTTYPE=image/jpeg:https://interconexiona.com/wp-content/uploads/2018/10/5-feria-empleo-sevilla-1.jpg
END:VEVENT
END:VCALENDAR