BEGIN:VCALENDAR
VERSION:2.0
PRODID:-//Interconexiona - ECPv6.15.20//NONSGML v1.0//EN
CALSCALE:GREGORIAN
METHOD:PUBLISH
X-ORIGINAL-URL:https://interconexiona.com
X-WR-CALDESC:Eventos para Interconexiona
REFRESH-INTERVAL;VALUE=DURATION:PT1H
X-Robots-Tag:noindex
X-PUBLISHED-TTL:PT1H
BEGIN:VTIMEZONE
TZID:Europe/Madrid
BEGIN:DAYLIGHT
TZOFFSETFROM:+0100
TZOFFSETTO:+0200
TZNAME:CEST
DTSTART:20170326T010000
END:DAYLIGHT
BEGIN:STANDARD
TZOFFSETFROM:+0200
TZOFFSETTO:+0100
TZNAME:CET
DTSTART:20171029T010000
END:STANDARD
BEGIN:DAYLIGHT
TZOFFSETFROM:+0100
TZOFFSETTO:+0200
TZNAME:CEST
DTSTART:20180325T010000
END:DAYLIGHT
BEGIN:STANDARD
TZOFFSETFROM:+0200
TZOFFSETTO:+0100
TZNAME:CET
DTSTART:20181028T010000
END:STANDARD
BEGIN:DAYLIGHT
TZOFFSETFROM:+0100
TZOFFSETTO:+0200
TZNAME:CEST
DTSTART:20190331T010000
END:DAYLIGHT
BEGIN:STANDARD
TZOFFSETFROM:+0200
TZOFFSETTO:+0100
TZNAME:CET
DTSTART:20191027T010000
END:STANDARD
END:VTIMEZONE
BEGIN:VEVENT
DTSTART;TZID=Europe/Madrid:20181119T200000
DTEND;TZID=Europe/Madrid:20181119T210000
DTSTAMP:20260424T145927
CREATED:20181116T132206Z
LAST-MODIFIED:20181116T132206Z
UID:954-1542657600-1542661200@interconexiona.com
SUMMARY:Conoce la relación laboral y qué necesito para emprender
DESCRIPTION:Interconexiona #empleo busca ayudarte a tener nuevas oportunidades. \n\n¿En qué consiste?\n\nInterconexiona #empleo ha preparado un nuevo programa para aprender muy mucho sobre la relación empresa trabajador y también sobre el emprendimiento.\n boral\n\n\n \n\n– Aboga por tu futuro con Eva Ferré\nEva Ferré en su espacio Aboga por tu futuro nos explicará de qué es una relación laboral\, nos explicará algunas sentencias relativas a relaciones laborales encubiertas y nos pondrá algún ejemplo de empresa en la que no se reconoce la laboralidad de la relación.\n\n \n\n\n– Espacio Emprender con pasión y cabeza con José Carlos Muñoz Parreño\nJosé Carlos Muñoz Parreño nos explicará a través de su espacio Emprender con pasión y cabeza\, qué necesitamos para emprender y cómo pasar de la idea a la pasión.\n¿Estás pensando el llevar a cabo tu propio proyecto? ¿Tienes muchas ideas que consideras interesantes?¿Qué puedes hacer con todas ellas?\n\n¡Pregunta!\n¿Tienes preguntas para ellos? Recuerda que puedes hacerlas en info@interconexiona.com\, dejando un comentario en este video o a través del whatsapp 647 54 54 11\n\n\n \n\n\nNo dudes en dejarnos tus preguntas y cómo no\, si te gusta lo que te explicamos\, recomendarnos a tooodo el mundo o suscribirte a nuestros videos o ver todo lo que tenemos en nuestra web: www.interconexiona.com\n\n\n¿Dónde puedo seguirlo?\n\nPuedes ver el programa en directo en el siguiente enlace: https://www.youtube.com/watch?v=2xb7bKmv6U4\n\n\n \n\n\nSuscríbete a nuestro canal de ayuda al empleo en Youtube 👉 http://bit.ly/TVEmpleo
URL:https://interconexiona.com/evento/conoce-la-relacion-laboral-necesito-emprender/
LOCATION:Internet-Online
CATEGORIES:Empleo,Emprendeduría
ATTACH;FMTTYPE=image/png:https://interconexiona.com/wp-content/uploads/2018/11/Conoce-la-relación-laboral-y-que-necesito-para-emprender.png
END:VEVENT
END:VCALENDAR