BEGIN:VCALENDAR
VERSION:2.0
PRODID:-//Interconexiona - ECPv6.15.20//NONSGML v1.0//EN
CALSCALE:GREGORIAN
METHOD:PUBLISH
X-WR-CALNAME:Interconexiona
X-ORIGINAL-URL:https://interconexiona.com
X-WR-CALDESC:Eventos para Interconexiona
REFRESH-INTERVAL;VALUE=DURATION:PT1H
X-Robots-Tag:noindex
X-PUBLISHED-TTL:PT1H
BEGIN:VTIMEZONE
TZID:Europe/Madrid
BEGIN:DAYLIGHT
TZOFFSETFROM:+0100
TZOFFSETTO:+0200
TZNAME:CEST
DTSTART:20170326T010000
END:DAYLIGHT
BEGIN:STANDARD
TZOFFSETFROM:+0200
TZOFFSETTO:+0100
TZNAME:CET
DTSTART:20171029T010000
END:STANDARD
BEGIN:DAYLIGHT
TZOFFSETFROM:+0100
TZOFFSETTO:+0200
TZNAME:CEST
DTSTART:20180325T010000
END:DAYLIGHT
BEGIN:STANDARD
TZOFFSETFROM:+0200
TZOFFSETTO:+0100
TZNAME:CET
DTSTART:20181028T010000
END:STANDARD
BEGIN:DAYLIGHT
TZOFFSETFROM:+0100
TZOFFSETTO:+0200
TZNAME:CEST
DTSTART:20190331T010000
END:DAYLIGHT
BEGIN:STANDARD
TZOFFSETFROM:+0200
TZOFFSETTO:+0100
TZNAME:CET
DTSTART:20191027T010000
END:STANDARD
END:VTIMEZONE
BEGIN:VEVENT
DTSTART;TZID=Europe/Madrid:20181029T200000
DTEND;TZID=Europe/Madrid:20181029T210000
DTSTAMP:20260424T174955
CREATED:20181029T171411Z
LAST-MODIFIED:20181029T171647Z
UID:896-1540843200-1540846800@interconexiona.com
SUMMARY:Dinámicas de grupo y comunicación eficaz
DESCRIPTION:Interconexiona #empleo está deseando ofrecerte de nuevo un programa con mucho contenido de utilidad para tu búsqueda o mejora personal y profesional. \n¿Qué temas tratamos hoy?\nSandra Sanjuan\, en su espacio\, Da vida a tu historia\, nos explicará qué es la comunicación efectiva\, cómo puede ayudarnos y nos dará algún «tip» para empezar a ponerla en marcha. \nDesde el espacio\, Interconexiona Orientación\, Mireia Gargallo espera poder desperjarte dudas sobre las dinámicas de grupo en la selección de personal. ¿Cómo son? ¿hacia dónde están evolucionando actualmente? \n¿Quieres hacer preguntas?\n¿Tienes preguntas para alguna de ellas? \nHazlo a info@interconexiona o a través de la página de Facebook www.interconexiona.com \nSuscríbete a nuestro canal de ayuda al empleo en Youtube 👉 http://bit.ly/TVEmpleo
URL:https://interconexiona.com/evento/dinamicas-grupo-comunicacion-eficaz/
LOCATION:Internet-Online
CATEGORIES:Empleo
ATTACH;FMTTYPE=image/png:https://interconexiona.com/wp-content/uploads/2018/10/Dinámicas-de-grupo-y-comunicación-eficaz.png
END:VEVENT
END:VCALENDAR