BEGIN:VCALENDAR
VERSION:2.0
PRODID:-//Interconexiona - ECPv6.15.20//NONSGML v1.0//EN
CALSCALE:GREGORIAN
METHOD:PUBLISH
X-WR-CALNAME:Interconexiona
X-ORIGINAL-URL:https://interconexiona.com
X-WR-CALDESC:Eventos para Interconexiona
REFRESH-INTERVAL;VALUE=DURATION:PT1H
X-Robots-Tag:noindex
X-PUBLISHED-TTL:PT1H
BEGIN:VTIMEZONE
TZID:Europe/Madrid
BEGIN:DAYLIGHT
TZOFFSETFROM:+0100
TZOFFSETTO:+0200
TZNAME:CEST
DTSTART:20170326T010000
END:DAYLIGHT
BEGIN:STANDARD
TZOFFSETFROM:+0200
TZOFFSETTO:+0100
TZNAME:CET
DTSTART:20171029T010000
END:STANDARD
BEGIN:DAYLIGHT
TZOFFSETFROM:+0100
TZOFFSETTO:+0200
TZNAME:CEST
DTSTART:20180325T010000
END:DAYLIGHT
BEGIN:STANDARD
TZOFFSETFROM:+0200
TZOFFSETTO:+0100
TZNAME:CET
DTSTART:20181028T010000
END:STANDARD
BEGIN:DAYLIGHT
TZOFFSETFROM:+0100
TZOFFSETTO:+0200
TZNAME:CEST
DTSTART:20190331T010000
END:DAYLIGHT
BEGIN:STANDARD
TZOFFSETFROM:+0200
TZOFFSETTO:+0100
TZNAME:CET
DTSTART:20191027T010000
END:STANDARD
END:VTIMEZONE
BEGIN:VEVENT
DTSTART;VALUE=DATE:20181215
DTEND;VALUE=DATE:20181217
DTSTAMP:20260424T161328
CREATED:20181210T161629Z
LAST-MODIFIED:20181210T162120Z
UID:1031-1544832000-1545004799@interconexiona.com
SUMMARY:Motiva +Emprende
DESCRIPTION:¿En qué consiste?\n“Motiva + Emprende” es un proyecto del Ayuntamiento de Soria\, seleccionado en el marco de la convocatoria de subvenciones impulsada por la FEMP y el INJUVE\, para promover el empleo y el emprendimiento juvenil mediante el desarrollo de programas que incluyan actividades que fomenten las oportunidades de empleo\, autoempleo e iniciativas empresariales para los y las jóvenes\, de 16 a 35 años\, en el ámbito local. \n¿Qué fases tiene?\nEl proyecto se desarrolla en tres fases: \n\nEncuentros con nueve emprendedores/as que ofrecerán pequeñas charla.  Intercambio de experiencias sobre sus ideas y modelos de éxito con negocios instalados en Soria\, y otros puntos\, como Burgos\, Guadalajara o Cáceres.\nLABORATORIO DE SUEÑOS: En esta fase es necesaria la inscripción previa. La idea es conocer las iniciativas que se presenten y que sus impulsores cuenten con el apoyo de tres expertos en las áreas de desarrollo rural\, las finanzas y el coaching\, en colaboración con el Semillero de Proyectos de Soria. Las personas interesadas deben enviar su solicitud al correo electrónico harmoniicoaching@gmail.com\nRed de proyectos on line: Abierta a todas las personas interesadas en inspirar\, aprender y crear sinergias que hagan factibles y viables sus proyectos.\n\nLos/as emprendedores/as se centrarán en áreas vinculadas al desarrollo sostenible\, aprovechando los recursos endógenos\, el turismo de bienestar y calidad de vida\, el diseño y trabajo online y los oficios.
URL:https://interconexiona.com/evento/motiva-emprende/
LOCATION:Centro Cívico Bécquer\, C/Infantes de Lara\,1\, Soria\, Soria\, 42003
CATEGORIES:Empleo,Emprendeduría,Networking
ATTACH;FMTTYPE=image/jpeg:https://interconexiona.com/wp-content/uploads/2018/12/Motivaemprende.jpg
ORGANIZER;CN="Ayuntamiento de Soria":MAILTO:harmoniicoaching@gmail.com
END:VEVENT
END:VCALENDAR