BEGIN:VCALENDAR
VERSION:2.0
PRODID:-//Interconexiona - ECPv6.15.20//NONSGML v1.0//EN
CALSCALE:GREGORIAN
METHOD:PUBLISH
X-ORIGINAL-URL:https://interconexiona.com
X-WR-CALDESC:Eventos para Interconexiona
REFRESH-INTERVAL;VALUE=DURATION:PT1H
X-Robots-Tag:noindex
X-PUBLISHED-TTL:PT1H
BEGIN:VTIMEZONE
TZID:Europe/Madrid
BEGIN:DAYLIGHT
TZOFFSETFROM:+0100
TZOFFSETTO:+0200
TZNAME:CEST
DTSTART:20170326T010000
END:DAYLIGHT
BEGIN:STANDARD
TZOFFSETFROM:+0200
TZOFFSETTO:+0100
TZNAME:CET
DTSTART:20171029T010000
END:STANDARD
BEGIN:DAYLIGHT
TZOFFSETFROM:+0100
TZOFFSETTO:+0200
TZNAME:CEST
DTSTART:20180325T010000
END:DAYLIGHT
BEGIN:STANDARD
TZOFFSETFROM:+0200
TZOFFSETTO:+0100
TZNAME:CET
DTSTART:20181028T010000
END:STANDARD
BEGIN:DAYLIGHT
TZOFFSETFROM:+0100
TZOFFSETTO:+0200
TZNAME:CEST
DTSTART:20190331T010000
END:DAYLIGHT
BEGIN:STANDARD
TZOFFSETFROM:+0200
TZOFFSETTO:+0100
TZNAME:CET
DTSTART:20191027T010000
END:STANDARD
END:VTIMEZONE
BEGIN:VEVENT
DTSTART;TZID=Europe/Madrid:20181203T200000
DTEND;TZID=Europe/Madrid:20181203T210000
DTSTAMP:20260424T161441
CREATED:20181203T145717Z
LAST-MODIFIED:20181203T145717Z
UID:988-1543867200-1543870800@interconexiona.com
SUMMARY:Storytelling práctico y Prestaciones II
DESCRIPTION:Interconexiona #empleo busca ayudarte a tener nuevas oportunidades. \n¿En qué consiste?\nEl programa de #Interconexiona #empleo de esta semana\, además de contarnos las ferias de empleo y de networking a las que puedes asistir te ofrecerá la participación de: \n\n\nEspacio Da vida a tu Historia\nSandra Sanjuan nos va a poner casos prácticos de cómo usamos el Storytelling. ¿Sabes cómo usarlo en una entrevista de trabajo?¿O si has de hacer una presentación en tu trabajo?Y si pudieras usar el storytelling en una reunión…¿cómo lo harías?\n\n\n\nEspacio Relaciones Laborales\nPaqui Cano nos explicará la segunda parte de las prestaciones de la seguridad social. Nos quedamos en una primera parte en el programa hablando de desempleo\, contributivo y asistencial\, muerte y supervivencia y prestación hijo a cargo y acabaremos de aclarar las que no nos dieron tiempo para continuar desarrollándolas. \nEl enlace para visualizar el programa es el siguiente:\nhttps://www.youtube.com/watch?v=LUagkbf9CpY\n\n¡Pregunta!\n¿Tienes preguntas para ellos? Recuerda que puedes hacerlas en info@interconexiona.com\, dejando un comentario en este video o a través del whatsapp 647 54 54 11 \nNo dudes en dejarnos tus preguntas y cómo no\, si te gusta lo que te explicamos\, recomendarnos a tooodo el mundo o suscribirte a nuestros videos o ver todo lo que tenemos en nuestra web: www.interconexiona.com \n¿Dónde puedo seguirlo?\nPuedes ver el programa en directo en el siguiente enlace: https://www.youtube.com/watch?v=2xb7bKmv6U4 \nSuscríbete a nuestro canal de ayuda al empleo en Youtube 👉 http://bit.ly/TVEmpleo
URL:https://interconexiona.com/evento/storytelling-practico-y-prestaciones-ii/
LOCATION:Internet-Online
CATEGORIES:Empleo
ATTACH;FMTTYPE=image/png:https://interconexiona.com/wp-content/uploads/2018/12/Storytelling-práctico-y-prestaciones-II.png
END:VEVENT
END:VCALENDAR